BEGIN:VCALENDAR
VERSION:2.0
PRODID:-//Adventure Therapy Latvia - ECPv6.15.20//NONSGML v1.0//EN
CALSCALE:GREGORIAN
METHOD:PUBLISH
X-ORIGINAL-URL:https://adventuretherapylatvia.lv
X-WR-CALDESC:Events for Adventure Therapy Latvia
REFRESH-INTERVAL;VALUE=DURATION:PT1H
X-Robots-Tag:noindex
X-PUBLISHED-TTL:PT1H
BEGIN:VTIMEZONE
TZID:UTC
BEGIN:STANDARD
TZOFFSETFROM:+0000
TZOFFSETTO:+0000
TZNAME:UTC
DTSTART:20250101T000000
END:STANDARD
END:VTIMEZONE
BEGIN:VEVENT
DTSTART;TZID=UTC:20260206T120000
DTEND;TZID=UTC:20260208T170000
DTSTAMP:20260422T225209
CREATED:20251224T085341Z
LAST-MODIFIED:20251224T085814Z
UID:2399-1770379200-1770570000@adventuretherapylatvia.lv
SUMMARY:UZDRĪKSTIES - atvērtā piedzīvojumu terapijas programma 02/2026
DESCRIPTION:Atvērta pieteikšanās piedzīvojumu terapijas programmai “Uzdrīksties” \nDalībnieku vecums: no 18 gadiemNorise: 06.–08.02.2026Vieta: Vidzeme (precizēsim\, tuvojoties pasākumam)Vadītāji: Rolands Melbārdis\, Kristīne Vilcāne\, Ieva Erta\, Gaiva Lukšo\, Oskars Rencis \nProgrammā piedāvājam dažādas piedzīvojumu terapijas aktivitātes dabā – gan individuāli\, gan grupā. Aktivitātes būs ar atšķirīgu intensitāti un piemērotas cilvēkiem bez iepriekšējas pieredzes. \nDalība programmā sniedz iespēju: \n\n\nizaicināt sevi drošā un atbalstošā vidē \n\n\nstiprināt drosmi\, pašapziņu un uzticēšanos sev \n\n\nlabāk iepazīt sevi un savas reakcijas \n\n\nCena:230 € līdz 01.01.2026.(pēc tam – 250 €) \nCenā iekļauts: \n\n\nprogrammas organizēšana un vadīšana \n\n\nnakšņošana \n\n\nmaltītes \n\n\nPieteikšanās:https://ej.uz/uzdriksties2026 \nVietu skaits ir ierobežots. \nJa meklē praktisku\, izaicinošu un atbalstošu pieredzi dabā – UZDRĪKSTIES un piesakies!
URL:https://adventuretherapylatvia.lv/kalendars/uzdriksties-atverta-piedzivojumu-terapijas-programma-02-2026/
CATEGORIES:Programmas
ATTACH;FMTTYPE=image/jpeg:https://adventuretherapylatvia.lv/wp-content/uploads/2025/12/603879084_881720427568240_8217677086373577440_n.jpg
END:VEVENT
BEGIN:VEVENT
DTSTART;TZID=UTC:20260306T160000
DTEND;TZID=UTC:20260419T180000
DTSTAMP:20260422T225209
CREATED:20251224T083008Z
LAST-MODIFIED:20251224T083008Z
UID:2391-1772812800-1776621600@adventuretherapylatvia.lv
SUMMARY:"Durvis 6.0" - topošo piedzīvojumu terapijas praktiķu treniņa programma
DESCRIPTION:Atvērta pieteikšanās topošo piedzīvojumu terapijas praktiķu treniņa programmai “Durvis 6.0”!\n\nReizi gadā tiek organizēta treniņa programma\, kuras laikā gūt ieskatu par piedzīvojumu terapiju\, kā metodi no teorijas līdz paša pieredzei un praksei. Šīs apmācības ir daļa no procesa\, lai kļūtu par biedrības “Adventure Therapy Latvia” biedru.\n\nJa tava dzīve un nodarbošanās ir saistīta ar piedzīvojumu radīšanu un palīdzēšanu cilvēkiem\, aicinām tevi pievienoties Adventure Therapy Latvia biedrībai kā piedzīvojumu terapijas praktiķim.\n\nŠī ir iespēja tiem\, kas vēlas:• radīt piedzīvojumus ar pievienoto vērtību\, izmantojot pieredzes izglītībā un piedzīvojumu terapijā balstītas metodes• papildināt teorētiskās un praktiskās iemaņas par darbu ar dažādu grupu klientiem brīvā dabā• rast jaunas sadarbības iespējas līdzīgi domājošo un darošo kopienā\n\n DURVIS 6.0 Topošo piedzīvojumu terapijas praktiķu treniņa programma 2026. gada marts vadītāji: Unda Avota / Latvijas Ergoterapeitu asociācija Valdis Vanags / Sense of Team\n\nPieteikšanās anketa: https://forms.gle/syEKwGP3jy97KXwr7\n\nPlašāka informācija sadaļā PIEVIENOTIES vai rakstot uz e-pastu adventuretherapy.latvia@gmail.com.\n\nSkatīt mazāk
URL:https://adventuretherapylatvia.lv/kalendars/durvis-6-0-toposo-piedzivojumu-terapijas-praktiku-trenina-programma/
LOCATION:Madona
CATEGORIES:Notikumi,Programmas
ATTACH;FMTTYPE=image/png:https://adventuretherapylatvia.lv/wp-content/uploads/2025/12/Black-Friday-minimalist-instagram-post.png
END:VEVENT
END:VCALENDAR