BEGIN:VCALENDAR
VERSION:2.0
PRODID:-//Adventure Therapy Latvia - ECPv6.15.20//NONSGML v1.0//EN
CALSCALE:GREGORIAN
METHOD:PUBLISH
X-ORIGINAL-URL:https://adventuretherapylatvia.lv
X-WR-CALDESC:Events for Adventure Therapy Latvia
REFRESH-INTERVAL;VALUE=DURATION:PT1H
X-Robots-Tag:noindex
X-PUBLISHED-TTL:PT1H
BEGIN:VTIMEZONE
TZID:UTC
BEGIN:STANDARD
TZOFFSETFROM:+0000
TZOFFSETTO:+0000
TZNAME:UTC
DTSTART:20240101T000000
END:STANDARD
END:VTIMEZONE
BEGIN:VEVENT
DTSTART;TZID=UTC:20250425T180000
DTEND;TZID=UTC:20250427T180000
DTSTAMP:20260425T020422
CREATED:20250110T194056Z
LAST-MODIFIED:20250110T201134Z
UID:2318-1745604000-1745776800@adventuretherapylatvia.lv
SUMMARY:Atvērtā piedzīvojumu terapijas programma "Uzdrīksties" pavasarī
DESCRIPTION:“Uzdrīksties” pavasarī noritēs no 2025. gada 25. – 27. aprīlim\, (norises vieta dalībniekiem tiks atklāta neilgi pirms pasākuma) \nPiedzīvojumu terapijas programma “Uzdrīksties” piedāvā metodes un aktivitātes personīgo resursu apzināšanai\, robežu noteikšanai un sadarbības prasmju pilnveidei neikdienišķos apstākļos. \nProgrammas norise: \n\nAktivitātes dabā\, mācoties būt saudzīgiem pret vidi\, kļūt par tās daļu un izmantot dabas resursus radošā\, sevis izzinošā un atbalstošā veidā.\nDalībniekiem individuāli tiek piedāvāta izvēle starp solo\, pāru vai grupu sesijām\, ar aktivitāšu klāstu\, kas sniedz gan mieru un klusumu\, gan adrenalīna pilnus piedzīvojumus.\n\nDalībnieki:\nProgramma paredzēta pieaugušajiem no 18 gadu vecuma. \nInventārs un ekipējums:\nAktivitāšu inventārs un sadzīves aprīkojums tiks nodrošināts\, bet dalībniekiem jāparūpējas par piemērotu apģērbu aktivitātēm dabā. \nDalība un izmaksas: \n\nDalības maksa: 250 EUR/persona.\nAgrā pieteikšanās cena līdz 01.02.2025.: 230 EUR/persona.\nDalības maksā iekļauta programma\, ēdināšana un izmitināšana.\n\nMetodes:\nOutdoor pieredzes izglītība & Solution Focused prakse piedzīvojumu terapijā. \nVadītāji:\nProgrammu veido un vada “Adventure Therapy Latvia” piedzīvojumu terapijas praktiķi: Rolands Melbārdis\, Unda Avota\, Kristīne Vilcāne\, Ieva Erta\, Gaiva Mičule\, Oskars Rencis\, Uģis Čakars\, Maija Rožkalne u.c. \nPieteikšanās anketa: PIEEJAMA ŠEIT. 🌲
URL:https://adventuretherapylatvia.lv/kalendars/atverta-piedzivojumu-terapijas-programma-uzdriksties-pavasari/
CATEGORIES:Programmas
ATTACH;FMTTYPE=image/png:https://adventuretherapylatvia.lv/wp-content/uploads/2025/01/Uzdriksties-3.png
END:VEVENT
END:VCALENDAR