BEGIN:VCALENDAR
VERSION:2.0
PRODID:-//Adventure Therapy Latvia - ECPv6.15.20//NONSGML v1.0//EN
CALSCALE:GREGORIAN
METHOD:PUBLISH
X-WR-CALNAME:Adventure Therapy Latvia
X-ORIGINAL-URL:https://adventuretherapylatvia.lv
X-WR-CALDESC:Events for Adventure Therapy Latvia
REFRESH-INTERVAL;VALUE=DURATION:PT1H
X-Robots-Tag:noindex
X-PUBLISHED-TTL:PT1H
BEGIN:VTIMEZONE
TZID:UTC
BEGIN:STANDARD
TZOFFSETFROM:+0000
TZOFFSETTO:+0000
TZNAME:UTC
DTSTART:20240101T000000
END:STANDARD
END:VTIMEZONE
BEGIN:VEVENT
DTSTART;TZID=UTC:20250321T180000
DTEND;TZID=UTC:20250323T180000
DTSTAMP:20260425T041809
CREATED:20250110T163021Z
LAST-MODIFIED:20250110T163347Z
UID:2301-1742580000-1742752800@adventuretherapylatvia.lv
SUMMARY:Topošo Piedzīvojumu terapijas praktiķu apmācību treniņš "Durvis 5.0" - 2. modulis
DESCRIPTION:Durvju Treniņš 5.0\n\n\n\n\n\n\n\n\n\n\n\n\n“Durvju treniņš” sastāv no diviem moduļiem\, kuri ir nedalāmi. Modulis viens – piedzīvojumu terapijas pieredzes iegūšanas fāze. Modulis divi – apmācības programma\, lai kļūtu par gana labu piedzīvojumu terapijas praktiķi.\n\n\nModulis viens notiks 2025. gada 07.-09. martā.\nProgramma notiks 2 dienas dabā un to vadīs Unda Avota / Latvijas Ergoterapeitu asociācija un Valdis Vanags / Sense of Team.\nProgrammā piedalīsies ne vairāk kā 12 dalībnieki.\nSpecifika un detaļas tiks izziņotas laicīgi pirms programmas.\nProgrammas izmaksa 195 eiro bez PVN. (norēķins ar rēķinu).\nProgrammā ir iekļauts – piedzīvojumu terapijas praktiķu darbs\, specifiskais inventārs un materiāli tehniskās izmaksas.\n\n\nModulis divi notiks 2025.gada 21.-23. martā. \nProgramma notiks 2\,5 dienas Sense of Team Mācību centrā un to vadīs Unda Avota / Latvijas Ergoterapeitu asociācija un Valdis Vanags / Sense of Team.\nProgrammā piedalīsies ne vairāk kā 12 dalībnieki.\nSpecifika un detaļas tiks izziņotas laicīgi pirms programmas.\nProgrammas izmaksa 295 eiro bez PVN. (norēķins ar rēķinu).\nProgrammā ir iekļauts – piedzīvojumu terapijas praktiķu darbs\, uzturēšanās\, ēdināšana un materiāli tehniskās izmaksas. Lauku pirts.\n\n\n\n\n\n\nPieteikšanās dalīborganizācijas statusam un Durvis 5.0 treniņiem valdis.vanags@senseofteam.lv \nTiekamies!
URL:https://adventuretherapylatvia.lv/kalendars/toposo-piedzivojumu-terapijas-praktiku-apmacibu-trenins-durvis-5-0-2-modulis/
LOCATION:Madona
CATEGORIES:Notikumi
ATTACH;FMTTYPE=image/png:https://adventuretherapylatvia.lv/wp-content/uploads/2024/11/Black-Friday-minimalist-instagram-post-2.png
END:VEVENT
END:VCALENDAR