BEGIN:VCALENDAR
VERSION:2.0
PRODID:-//Adventure Therapy Latvia - ECPv6.15.20//NONSGML v1.0//EN
CALSCALE:GREGORIAN
METHOD:PUBLISH
X-ORIGINAL-URL:https://adventuretherapylatvia.lv
X-WR-CALDESC:Events for Adventure Therapy Latvia
REFRESH-INTERVAL;VALUE=DURATION:PT1H
X-Robots-Tag:noindex
X-PUBLISHED-TTL:PT1H
BEGIN:VTIMEZONE
TZID:UTC
BEGIN:STANDARD
TZOFFSETFROM:+0000
TZOFFSETTO:+0000
TZNAME:UTC
DTSTART:20240101T000000
END:STANDARD
END:VTIMEZONE
BEGIN:VEVENT
DTSTART;TZID=UTC:20250214T180000
DTEND;TZID=UTC:20250316T180000
DTSTAMP:20260425T042809
CREATED:20250110T164012Z
LAST-MODIFIED:20250110T164012Z
UID:2304-1739556000-1742148000@adventuretherapylatvia.lv
SUMMARY:Piedzīvojumu terapijas programma "Uzdrīksties"
DESCRIPTION:Pieteikšanās “Uzdrīksties” ziemā slēgta! (Nākošā plānotā piedzīvojumu terapijas programma “Uzdrīksties”  plānota 25/04 – 27/04/2025. Informācija par pavasara programmu būs pieejama 2025. gada 13.janvārī.)\n\nPiedzīvojumu terapijas programmai “Uzdrīksties”\, kas noritēs 14/02 – 16/02/2025 \n\nPT programmu ar terapeitisku nolūku “Uzdrīksties” vadītāji piedāvās metodes un aktivitātes\, kas sekmē personīgo resursu atklāšanu\, robežu noteikšanu\, sadarbību ar līdzcilvēkiem neikdienišķos apstākļos u.c \n\nProgramma noritēs dabā\, tādēļ sniegsim ieskatu\, kā cilvēkam pret to būt saudzīgam\, būt daļai no tās un izmantot dabas resursus radošos\, sevis izzinošos un atbalstošos procesos\n\nKā ierasts\, piedāvāsim aktivitāšu “menu”\, piedāvājot izvēlēties aktivitātes individuāli un doties solo\, pāru vai grupas sesijās.Aktivitātes būs daudzveidīgas\, gan pilnas miera un klusuma\, gan adrenalīna piesātinātas\n\nNakšņosim siltās telpās\, lai atgūtu spēkus savam nākamās dienas “uzdrīksties”\n\nInventārs aktivitāšu vajadzībām un kopējai sadzīvei tiks nodrošināts. Pašiem jāparūpējas par individuālo ekipējumu (aktivitātēm dabā piemērots apģērbs\, par pārējo informēsim pēc pieteikuma apstiprināšanas)\n\nDalības maksā iekļauta programmas nodrošināšana\, ēdināšana\, izmitināša\n\nProgrammas metode: Outdoor pieredzes izglītība un Solution Focused prakse piedzīvojumu terapijā\n\nProgrammu veido un vada “Adventure Therapy Latvia” piedzīvojumu terapijas praktiķi: Kristīne Vilcāne\, Ieva Erta\, Gaiva Mičule\, Oskars Rencis\, Uģis Čakars\, Maija Rožkalne u.c.\n\nDalības maksa: 200 EUR/personaAgro putniņu cena līdz 23.12.2024. – 180EUR/persona\n\nPieteikšanās anketa: PIEEJAMA ŠEIT
URL:https://adventuretherapylatvia.lv/kalendars/piedzivojumu-terapijas-programma-uzdriksties/
CATEGORIES:Programmas
ATTACH;FMTTYPE=image/png:https://adventuretherapylatvia.lv/wp-content/uploads/2024/11/Uzdriksties.png
END:VEVENT
END:VCALENDAR